BEGIN:VCALENDAR
VERSION:2.0
PRODID:-//Teatrul de Păpuși Prichindel din Alba Iulia - ECPv5.16.3.1//NONSGML v1.0//EN
CALSCALE:GREGORIAN
METHOD:PUBLISH
X-WR-CALNAME:Teatrul de Păpuși Prichindel din Alba Iulia
X-ORIGINAL-URL:https://www.teatrulalba.ro
X-WR-CALDESC:Events for Teatrul de Păpuși Prichindel din Alba Iulia
BEGIN:VTIMEZONE
TZID:Europe/Bucharest
BEGIN:DAYLIGHT
TZOFFSETFROM:+0200
TZOFFSETTO:+0300
TZNAME:EEST
DTSTART:20250330T010000
END:DAYLIGHT
BEGIN:STANDARD
TZOFFSETFROM:+0300
TZOFFSETTO:+0200
TZNAME:EET
DTSTART:20251026T010000
END:STANDARD
END:VTIMEZONE
BEGIN:VEVENT
DTSTART;TZID=Europe/Bucharest:20250412T120000
DTEND;TZID=Europe/Bucharest:20250412T124500
DTSTAMP:20260418T223642
CREATED:20250327T075952Z
LAST-MODIFIED:20250327T080411Z
UID:7026-1744459200-1744461900@www.teatrulalba.ro
SUMMARY:TURTIȚA LĂUDĂROASĂ
DESCRIPTION:TURTIȚA LĂUDĂROASĂ\nRegia\, scenariul\, muzica: Adam Boboc\nScenografia: Ana Catrințașu\nDistribuția: Laura Boboc și Adam Boboc \nSpectacol de teatru pentru copii / 3 + / 45 min. \nScurtă prezentare:\nSpectacolul aduce în fața micilor spectatori prin intermediul marionetelor cu fire o poveste foarte veche și foarte interesantă\, povestea unei turtițe năzdrăvane. Aceasta își propune să păcălească și să facă haz de oricine îi iese în cale. Cu toate că se dovedește a fi foarte abilă\, reușind să păcălească și să facă haz de câțiva pofticioși\, în cele din urmă întâlnește un personaj care se dovedește a fi mult mai iscusit decât ea la păcăleli\, șiretlicuri și glume. \n\n12 aprilie 2025 / ora 12:00 / Sala Teatrului de Păpuși „Prichindel” Alba Iulia.\nPreț bilete:\n• 30 lei pentru adulți;\n• 7 lei pentru elevi / copii;\n• 15 lei pentru pensionari\, studenți;\n• 15 lei pentru persoane cu dizabilități\, respectiv adultul cu handicap mediu și ușor;\n• gratuit pentru copilul cu handicap\, precum și persoana care îl însoțește;\n• gratuit pentru adultul cu handicap grav și accentuat\, precum și persoana care îl însoțește.\nBiletele pot fi achiziționate:\n• online: www.teatrulalba.ro\n• la sediul teatrului\, program casierie: luni – vineri\, între orele 09:00 și 14:00 sau cu 30 min. înainte de începerea spectacolului (în funcție de locurile rămase disponibile).
URL:https://www.teatrulalba.ro/eveniment/turtita-laudaroasa-47/
LOCATION:Sala Teatrului de Păpuși „PRICHINDEL” Alba Iulia\, Andrei Mureșanu\, nr. 3\, Alba Iulia\, Alba\, 510117\, România
CATEGORIES:Spectacole
ATTACH;FMTTYPE=image/jpeg:https://www.teatrulalba.ro/wp-content/uploads/2025/03/Turtita-laudaroasa_12-Aprilie-2025.jpg
ORGANIZER;CN="Teatrul%20de%20P%C4%83pu%C8%99i%20%E2%80%9EPRICHINDEL%E2%80%9D%20Alba%20Iulia":MAILTO:secretariat@teatrulalba.ro
END:VEVENT
END:VCALENDAR