BEGIN:VCALENDAR
VERSION:2.0
PRODID:-//Teatrul de Păpuși Prichindel din Alba Iulia - ECPv5.16.3.1//NONSGML v1.0//EN
CALSCALE:GREGORIAN
METHOD:PUBLISH
X-WR-CALNAME:Teatrul de Păpuși Prichindel din Alba Iulia
X-ORIGINAL-URL:https://www.teatrulalba.ro
X-WR-CALDESC:Events for Teatrul de Păpuși Prichindel din Alba Iulia
BEGIN:VTIMEZONE
TZID:Europe/Bucharest
BEGIN:DAYLIGHT
TZOFFSETFROM:+0200
TZOFFSETTO:+0300
TZNAME:EEST
DTSTART:20250330T010000
END:DAYLIGHT
BEGIN:STANDARD
TZOFFSETFROM:+0300
TZOFFSETTO:+0200
TZNAME:EET
DTSTART:20251026T010000
END:STANDARD
END:VTIMEZONE
BEGIN:VEVENT
DTSTART;TZID=Europe/Bucharest:20250323T123000
DTEND;TZID=Europe/Bucharest:20250323T131500
DTSTAMP:20260425T200536
CREATED:20250317T080551Z
LAST-MODIFIED:20250317T083818Z
UID:6990-1742733000-1742735700@www.teatrulalba.ro
SUMMARY:SCUFIȚA ROȘIE - SĂRBĂTOAREA MIERII BLAJ
DESCRIPTION:SĂRBĂTOAREA MIERII BLAJ\nINTRAREA LIBERĂ\nSCUFIȚA ROȘIE\nScenariul: Cristian Pepino\nRegia și distribuția: Teodora Popa și Viorica Boda\nSpectacol de teatru pentru copii (45 min. / 4+) \nDespre spectacol:\nCine nu știe povestea fetiței care pornește la drum spre bunicuță și\, neascultând de povețele mamei\, ajunge\, împreună cu bunica\, în burta lupului! Ei bine\, povestea noastră este puțin altfel. Prin talentul și umorul lui Cristian Pepino\, care a scris scenariul\, prin viziunea scenografică a lui Marian Sandu\, precum și prin punerea în scenă a colegelor noastre\, ea se transformă într-o poveste originală\, plină de umor\, de aventură și de personaje simpatice.\nConvenția teatrală\, specifică teatrului de păpuși\, este vizibilă\, adică actorul și păpușa sunt alături și se prezintă astfel pe scenă\, după cum veți vedea. Apoi personajele sunt aduse\, într-o anumită măsură\, în zilele noastre: scufița este o puștoaică simpatică\, o fetiță sportivă\, căreia îi plac drumețiile\, curioasă\, bunicuța este o bunicuță căreia îi place să tricoteze și să se uite la televizor/să asculte radioul\, lupul este un mare șmecher (cam așa se crede el)\, iar vânătorul este acel vânător preocupat să prezerve fauna și flora pădurilor:\n„E o poveste cu învăţăminte\nCare te-nvaţă cum să fii cuminte\nDe oamenii vicleni să te fereşti\,\nCă altfel s-ar putea să o păţeşti.” \n\n			\n				\n			\n		\n\n  \n  \n 
URL:https://www.teatrulalba.ro/eveniment/scufita-rosie-sarbatoarea-mierii-blaj/
LOCATION:Palatul Cultural Blaj\, Blaj\, Alba
CATEGORIES:Spectacole
ATTACH;FMTTYPE=image/jpeg:https://www.teatrulalba.ro/wp-content/uploads/2023/07/Afis-Scufita-rosie-2023.jpg
ORGANIZER;CN="Teatrul%20de%20P%C4%83pu%C8%99i%20%E2%80%9EPRICHINDEL%E2%80%9D%20Alba%20Iulia":MAILTO:secretariat@teatrulalba.ro
END:VEVENT
END:VCALENDAR