BEGIN:VCALENDAR
VERSION:2.0
PRODID:-//Teatrul de Păpuși Prichindel din Alba Iulia - ECPv5.16.3.1//NONSGML v1.0//EN
CALSCALE:GREGORIAN
METHOD:PUBLISH
X-WR-CALNAME:Teatrul de Păpuși Prichindel din Alba Iulia
X-ORIGINAL-URL:https://www.teatrulalba.ro
X-WR-CALDESC:Events for Teatrul de Păpuși Prichindel din Alba Iulia
BEGIN:VTIMEZONE
TZID:Europe/Bucharest
BEGIN:DAYLIGHT
TZOFFSETFROM:+0200
TZOFFSETTO:+0300
TZNAME:EEST
DTSTART:20240331T010000
END:DAYLIGHT
BEGIN:STANDARD
TZOFFSETFROM:+0300
TZOFFSETTO:+0200
TZNAME:EET
DTSTART:20241027T010000
END:STANDARD
END:VTIMEZONE
BEGIN:VEVENT
DTSTART;TZID=Europe/Bucharest:20241123T120000
DTEND;TZID=Europe/Bucharest:20241123T124500
DTSTAMP:20260426T061151
CREATED:20241107T091347Z
LAST-MODIFIED:20241107T091506Z
UID:6625-1732363200-1732365900@www.teatrulalba.ro
SUMMARY:SCUFIȚA ROȘIE
DESCRIPTION:23 noiembrie 2024 / ora 12:00 / Sala 67 – Teatrul de Păpuși Prichindel Alba Iulia \nSCUFIȚA ROȘIE\nScenariul: Cristian Pepino\nRegia și distribuția: Teodora Popa și Viorica Boda\nSpectacol de teatru pentru copii (45 min. / 4+) \nDespre spectacol:\nCine nu știe povestea fetiței care pornește la drum spre bunicuță și\, neascultând de povețele mamei\, ajunge\, împreună cu bunica\, în burta lupului! Ei bine\, povestea noastră este puțin altfel. Prin talentul și umorul lui Cristian Pepino\, care a scris scenariul\, prin viziunea scenografică a lui Marian Sandu\, precum și prin punerea în scenă a colegelor noastre\, ea se transformă într-o poveste originală\, plină de umor\, de aventură și de personaje simpatice.\nConvenția teatrală\, specifică teatrului de păpuși\, este vizibilă\, adică actorul și păpușa sunt alături și se prezintă astfel pe scenă\, după cum veți vedea. Apoi personajele sunt aduse\, într-o anumită măsură\, în zilele noastre: scufița este o puștoaică simpatică\, o fetiță sportivă\, căreia îi plac drumețiile\, curioasă\, bunicuța este o bunicuță căreia îi place să tricoteze și să se uite la televizor/să asculte radioul\, lupul este un mare șmecher (cam așa se crede el)\, iar vânătorul este acel vânător preocupat să prezerve fauna și flora pădurilor:\n„E o poveste cu învăţăminte\nCare te-nvaţă cum să fii cuminte\nDe oamenii vicleni să te fereşti\,\nCă altfel s-ar putea să o păţeşti.” \n  \nPreț bilete:\n• 7 lei pentru copii / elevi;\n• 15 lei pentru studenți și pensionari;\n• 30 lei pentru adulți; \nINFO BILETE:\n• Bilete pot fi achiziționate online: www.teatrulalba.ro și la sediul teatrului\, program casierie: luni – vineri\, între orele 09:00 și 14:00 sau cu 30 min. înainte de începerea spectacolului (în funcție de locurile rămase disponibile). \nBilete online\n• Prin accesarea butonului Bilete online din site-ul teatrului sunteți redirecționați pe website-ul www.eventim.ro (companie de ticketing – vânzare bilete online) care va facilita / procesa achiziționarea biletelor dumneavoastră. \n• Preț bilet pentru persoane adulte cu handicap ușor și mediu: 15 lei.\n• Persoanele cu handicap accentuat și grav\, precum și persoana care îi însoțește\, beneficiază de acces gratuit. \n  \n 
URL:https://www.teatrulalba.ro/eveniment/scufita-rosie-23/
LOCATION:Sala 67 – Teatrul de Păpuși Prichindel Alba Iulia\, Str. Andrei Mureșanu nr.3\, Alba Iulia\, Alba\, 510117\, România
CATEGORIES:Spectacole
ATTACH;FMTTYPE=image/jpeg:https://www.teatrulalba.ro/wp-content/uploads/2024/11/Afis-Scufita_23-nov-2024.jpg
ORGANIZER;CN="Teatrul%20de%20P%C4%83pu%C8%99i%20%E2%80%9EPRICHINDEL%E2%80%9D%20Alba%20Iulia":MAILTO:secretariat@teatrulalba.ro
END:VEVENT
END:VCALENDAR