BEGIN:VCALENDAR
VERSION:2.0
PRODID:-//Teatrul de Păpuși Prichindel din Alba Iulia - ECPv5.16.3.1//NONSGML v1.0//EN
CALSCALE:GREGORIAN
METHOD:PUBLISH
X-WR-CALNAME:Teatrul de Păpuși Prichindel din Alba Iulia
X-ORIGINAL-URL:https://www.teatrulalba.ro
X-WR-CALDESC:Events for Teatrul de Păpuși Prichindel din Alba Iulia
BEGIN:VTIMEZONE
TZID:Europe/Bucharest
BEGIN:DAYLIGHT
TZOFFSETFROM:+0200
TZOFFSETTO:+0300
TZNAME:EEST
DTSTART:20180325T010000
END:DAYLIGHT
BEGIN:STANDARD
TZOFFSETFROM:+0300
TZOFFSETTO:+0200
TZNAME:EET
DTSTART:20181028T010000
END:STANDARD
END:VTIMEZONE
BEGIN:VEVENT
DTSTART;VALUE=DATE:20180205
DTEND;VALUE=DATE:20180216
DTSTAMP:20260421T145411
CREATED:20180205T135943Z
LAST-MODIFIED:20180205T140845Z
UID:370-1517788800-1518739199@www.teatrulalba.ro
SUMMARY:SÂNZIANA ȘI PEPELEA
DESCRIPTION:  \nTeatrul de Păpuși PRICHINDEL Alba Iulia pregătește o nouă premieră:\n  \nSÂNZIANA ȘI PEPELEA\n                                      de Vasile Alecsandri\n  \n  \nProgram repetiții: 5 – 15 februarie 2018\n  \nAvanpremiera spectacolului: 16 februarie 2018\, ora 11.00\nPremiera: 17 februarie 2018\, ora 11.00\n 
URL:https://www.teatrulalba.ro/eveniment/sanziana-si-pepelea/
LOCATION:Casa de Cultură a Studenților – Număr locuri: 378\, Strada Ardealului\, Nr. 1\, Alba Iulia\, Alba\, 510405\, România
CATEGORIES:Repetiții
ATTACH;FMTTYPE=image/jpeg:https://www.teatrulalba.ro/wp-content/uploads/2018/02/SANZIANA-SI-PEPELEA.jpg
ORGANIZER;CN="Teatrul%20de%20P%C4%83pu%C8%99i%20%E2%80%9EPRICHINDEL%E2%80%9D%20Alba%20Iulia":MAILTO:secretariat@teatrulalba.ro
END:VEVENT
END:VCALENDAR