BEGIN:VCALENDAR
VERSION:2.0
PRODID:-//Teatrul de Păpuși Prichindel din Alba Iulia - ECPv5.16.3.1//NONSGML v1.0//EN
CALSCALE:GREGORIAN
METHOD:PUBLISH
X-WR-CALNAME:Teatrul de Păpuși Prichindel din Alba Iulia
X-ORIGINAL-URL:https://www.teatrulalba.ro
X-WR-CALDESC:Events for Teatrul de Păpuși Prichindel din Alba Iulia
BEGIN:VTIMEZONE
TZID:Europe/Bucharest
BEGIN:DAYLIGHT
TZOFFSETFROM:+0200
TZOFFSETTO:+0300
TZNAME:EEST
DTSTART:20180325T010000
END:DAYLIGHT
BEGIN:STANDARD
TZOFFSETFROM:+0300
TZOFFSETTO:+0200
TZNAME:EET
DTSTART:20181028T010000
END:STANDARD
END:VTIMEZONE
BEGIN:VEVENT
DTSTART;TZID=Europe/Bucharest:20180216T110000
DTEND;TZID=Europe/Bucharest:20180216T110000
DTSTAMP:20260418T223015
CREATED:20180214T102910Z
LAST-MODIFIED:20180214T114256Z
UID:407-1518778800-1518778800@www.teatrulalba.ro
SUMMARY:Avanpremieră: SÂNZIANA ȘI PEPELEA
DESCRIPTION:  \nPrezentare eveniment: \nTeatrul de Păpuși ”Prichindel” vă invită la un nou spectacol   – ”Sânziana și Pepelea”\, care face parte din programul România 100. \nSe împlinesc 138 de ani de când\, retras la Mircești\, Vasile Alecsandri scria feeria națională  ”Sânziana și Pepelea”. O ironie evidentă la adresa societății de atunci și\, după cum veți vedea\, chiar de acum\, piesa își are farmecul ei tocmai prin această prezentare ”feerică” a faptelor și prin personajele pline de umor\, reprezentări ale caracterelor umane. Este o piesă care\, pusă în scenă cu pricepere de Cristian Pepino\, se dovedește a fi potrivită spre înțelegere și prezentare atât celor mici\, care au împlinit vârsta de 5 ani\,  cât și celor mari. Ținând cont de ceea ce înseamnă o feerie\, putem spune că avem toate ingredientele unui spectacol plin de viață\, dar și de învățături: personaje fantastice\, decoruri și costume viu  colorate și strălucitoare\, muzică\, magie și aventură. \nAșadar\, copii\, părinți\, bunici\, educatori și profesori\, vă așteptăm la avanpremiera spectacolului  ”Sânziana și Pepelea” vineri\, 16 februarie 2018  și la premieră – sâmbătă 17 februarie 2018. Ambele spectacole se desfășoară la Casa de Cultură a Studenților\, de la orele 11.00\, biletele putând fi achiziționate în holul casei de cultură\, înainte de spectacol. Prețul unui bilet este de 5 lei. \nEchipa care a construit acest spectacol este formată din: Cristian Pepino – regia artistică și adaptarea\, Raluca Maria Aionițoaie și Remus Alexandru Gabor – scenografia\, Levente Szöcs – muzica\, Ioana Bogățan\, Irina Melnic\, Teodora Popa\, Cătălina Mihăilă\, Viorica Boda\, Mădălin Costea\, Ramona Benchea Mincu și Tudor Popa – distribuția\, Elena Madaras – regia tehnică\, Ovidiu Tămășan și Călin Popa – lumini\, Florin Andrea – sunet\, Mirela Tămășan – croitorie\, Răzvan Laszlo și Horia Oarga – mașiniști\, Marin Goia – tâmplărie. Manager teatru – Ioana Bogățan. \nVă așteptăm să ne bucurăm împreună de cel mai proaspăt spectacol al teatrului nostru. \nCristina Smadea\, secretar literar \n\n  \nSÂNZIANA ȘI PEPELEA\n  \nAutor: Vasile Alecsandri\nRegia: Cristian Pepino\nScenografia: Raluca Maria Aionițoaie\, Remus Alexandru Gabor\nMuzica: Levente Szöcs \nDistribuția:\nIoana Bogățan – Sânziana / Sânziana transformată\nIrina Melnic – Pepelea\nTeodora Popa – Pădureanca / Papură Împărat / Paharnicul lui Pârlea\nCătălina Mihăilă – Pârlea Vodă / Baba Rada / Zâna lacului\nViorica Boda – Lăcustă Vodă / Mărica / Slujnică\nMădălin Costea – Zmeul / Dascălul Macovei\nRamona Benchea Mincu – Povestitor / Slujnică\nTudor Popa – Pasărea Măiastră / Toma / Stolnicul lui Lăcustă Vodă \nRegia tehnică: Elena Madaras\nLumini: Ovidiu Tămășan\, Călin Popa\nSunet: Florin Andrea\nCroitorie: Mirela Tămășan\nTâmplărie: Marin Goia\nMașiniști: Răzvan Laszlo\, Horia Oarga \nDurata spectacolului: 50 minute (fără pauză)\n Vârsta publicului ţintă: 5 +\n Limba în care se joacă spectacolul: română \nScurtă prezentare a spectacolului: \n„Sânziana și Pepelea”\, declarată de Vasile Alecsandri drept o „feerie națională”\, este un spectacol în care firul narativ și personajele specifice basmului se prezintă cu mult umor\, cu ironie și cu măiestria regizorală a lui Cristian Pepino. Aventură\, poveste de dragoste\, regi\, zâne\, zmei și duhuri ale pădurii se întâlnesc în povestea plină de farmec și de voioșie specific românească. Păpuși și actori se vor prezenta în fața voastră\, dragi spectatori\, cu bucuria jocului și cu frumusețea poveștilor care sunt doar ale noastre\, ale românilor. \nCristina Smadea\, secretar literar
URL:https://www.teatrulalba.ro/eveniment/sanziana-si-pepelea-2/
LOCATION:Casa de Cultură a Studenților – Număr locuri: 378\, Strada Ardealului\, Nr. 1\, Alba Iulia\, Alba\, 510405\, România
CATEGORIES:Avanpremieră
ATTACH;FMTTYPE=image/jpeg:https://www.teatrulalba.ro/wp-content/uploads/2018/02/SANZIANA-SI-PEPELEA-mic-e1518601726810.jpg
ORGANIZER;CN="Teatrul%20de%20P%C4%83pu%C8%99i%20%E2%80%9EPRICHINDEL%E2%80%9D%20Alba%20Iulia":MAILTO:secretariat@teatrulalba.ro
END:VEVENT
END:VCALENDAR