BEGIN:VCALENDAR
VERSION:2.0
PRODID:-//Teatrul de Păpuși Prichindel din Alba Iulia - ECPv5.16.3.1//NONSGML v1.0//EN
CALSCALE:GREGORIAN
METHOD:PUBLISH
X-WR-CALNAME:Teatrul de Păpuși Prichindel din Alba Iulia
X-ORIGINAL-URL:https://www.teatrulalba.ro
X-WR-CALDESC:Events for Teatrul de Păpuși Prichindel din Alba Iulia
BEGIN:VTIMEZONE
TZID:Europe/Bucharest
BEGIN:DAYLIGHT
TZOFFSETFROM:+0200
TZOFFSETTO:+0300
TZNAME:EEST
DTSTART:20260329T010000
END:DAYLIGHT
BEGIN:STANDARD
TZOFFSETFROM:+0300
TZOFFSETTO:+0200
TZNAME:EET
DTSTART:20261025T010000
END:STANDARD
END:VTIMEZONE
BEGIN:VEVENT
DTSTART;TZID=Europe/Bucharest:20260425T120000
DTEND;TZID=Europe/Bucharest:20260425T124500
DTSTAMP:20260420T223312
CREATED:20260402T074126Z
LAST-MODIFIED:20260408T095519Z
UID:8069-1777118400-1777121100@www.teatrulalba.ro
SUMMARY:POVESTEA LUI MUCK CEL MIC
DESCRIPTION:BILETE ONLINE\nRegia: Todor Valov\nScenografia: Natalia Gocheva\nDramatizarea: Darko Kovachovsky\nMuzica: Mirchev Plamen \nDistribuţia: Iulian Costea\, Irina Melnic\, Mădălin Costea\, Ramona Benchea Mincu\, Teodora Popa\, Viorica Boda \nRegia tehnică: Elena Madaras\nLumini: Ovidiu Tămăşan\nSunet: Florin Andrea\nMașiniști: Gheorghe Hațegan\, Florin Badiu\nCroitorie: Mirela Tămăşan\n \nConstrucție decoruri și păpuși: Masters of puppets\, Sofia\, Bulgaria \nDurata spectacolului: 45 minute\nVârsta publicului țintă: 4+\nLimba în care se joacă spectacolul: română \nScurtă prezentare a spectacolului: \n“Povestea lui Muck cel Mic” este o poveste moralizatoare a modului în care aspectul exterior al omului nu se potrivește întotdeauna cu conținutul\, cu sufletul și calitățile sale\, precum gândirea\, inteligența\, bunătatea\, compasiunea\, corectitudinea… Trebuie să reamintim că noblețea naturii umane și puritatea spirituală a omului sunt virtuți care trebuie respectate nu numai în timpul romantismului european\, al cărui reprezentant este Wilhelm Hauff. Aceste valori umane sunt veșnice. Totuși\, în timpul nostru\, ele au devenit vagi\, fiind mereu supuse agresiunii și cruzimii\, fapt dezumanizant pentru societate. De aceea\, credem că subiectul este binevenit și necesar pentru atenția publicului\, mai ales pus în scenă prin intermediul teatrului de păpuși\, spațiu ludic și cu evidente funcții educative. \nTodor VALOV\, regizor \n  \n“Povestea lui Muck cel Mic” vine cu o abordare regizorală aparte\, păpușile și obiectele animate sunt foarte expresive și lucrate în detaliu. Muzica originală\, alături de o scenografie de excepție\, te cucerește încă de la început și dublează la perfecție firul poveștii. Ai sentimentul că ești într-o lume de basm\, mirifică\, cu tentă orientală din care nu-ți mai dorești să pleci. Valoarea spectacolului este împlinită prin expresivitatea și mânuirea de excepție a actorilor care fac parte din distribuție. Producția a durat peste trei luni iar cinci săptămâni s-a lucrat efectiv cu actorii și personalul tehnic pe scenă. Felicitări întregii echipe de producție ! \nIoana BOGĂȚAN\, Manager Teatru \n——————————————————————————————————————————————————————— \nPreț bilete:\n• 8 lei pentru copii / elevi;\n• 15 lei pentru studenți / pensionari;\n• 35 lei pentru adulți; \n• 15 lei pentru persoane cu dizabilități\, respectiv adultul cu handicap mediu și ușor;\n• gratuit pentru copilul cu handicap\, precum și persoana care îl însoțește;\n• gratuit pentru adultul cu handicap grav și accentuat\, precum și persoana care îl însoțește. \nBiletele pot fi achiziționate:\n• online: www.teatrulalba.ro\n• la sediul teatrului\, program casierie: luni – vineri\, între orele 09:00 și 14:00 sau cu 30 min. înainte de începerea spectacolului (în funcție de locurile rămase disponibile). \n 
URL:https://www.teatrulalba.ro/eveniment/povestea-lui-muck-cel-mic-10/
LOCATION:Sala Teatrului de Păpuși „PRICHINDEL” Alba Iulia\, Andrei Mureșanu\, nr. 3\, Alba Iulia\, Alba\, 510117\, România
CATEGORIES:Spectacole
ATTACH;FMTTYPE=image/jpeg:https://www.teatrulalba.ro/wp-content/uploads/2026/04/Muck.jpg
ORGANIZER;CN="Teatrul%20de%20P%C4%83pu%C8%99i%20%E2%80%9EPRICHINDEL%E2%80%9D%20Alba%20Iulia":MAILTO:secretariat@teatrulalba.ro
END:VEVENT
END:VCALENDAR