BEGIN:VCALENDAR
VERSION:2.0
PRODID:-//Teatrul de Păpuși Prichindel din Alba Iulia - ECPv5.16.3.1//NONSGML v1.0//EN
CALSCALE:GREGORIAN
METHOD:PUBLISH
X-WR-CALNAME:Teatrul de Păpuși Prichindel din Alba Iulia
X-ORIGINAL-URL:https://www.teatrulalba.ro
X-WR-CALDESC:Events for Teatrul de Păpuși Prichindel din Alba Iulia
BEGIN:VTIMEZONE
TZID:Europe/Bucharest
BEGIN:DAYLIGHT
TZOFFSETFROM:+0200
TZOFFSETTO:+0300
TZNAME:EEST
DTSTART:20180325T010000
END:DAYLIGHT
BEGIN:STANDARD
TZOFFSETFROM:+0300
TZOFFSETTO:+0200
TZNAME:EET
DTSTART:20181028T010000
END:STANDARD
END:VTIMEZONE
BEGIN:VEVENT
DTSTART;TZID=Europe/Bucharest:20180921T110000
DTEND;TZID=Europe/Bucharest:20180921T110000
DTSTAMP:20260418T221031
CREATED:20180918T112106Z
LAST-MODIFIED:20180918T113150Z
UID:1060-1537527600-1537527600@www.teatrulalba.ro
SUMMARY:Avanpremieră PASĂREA MĂIASTRĂ
DESCRIPTION:Autor: Petre Ispirescu\nAdaptare de: Gabriel Apostol\nRegia: Gabriel Apostol\nScenografia: Gavril Siriteanu\nMuzica: Levente Szöcs \nDistribuția:\nTeodora Popa – Ghionoaia\nViorica Boda – Blaesus\nIrina Melnic – Pasărea măiastră\nRamona Mincu Benchea – Calul\nCătălina Mihăilă – Frumoasa Zia\nIulian Lungu – Cotiso\nTudor Popa – Zmeul I\, Zmeul II\, Vezina\nRareș Bogdan Porca – Regele Zuras\, Lupul\, Orbul \nRegia tehnică: Elena Madaras\nLumini: Ovidiu Tămășan\, Călin Popa\nSunet: Florin Andrea\nCroitorie: Mirela Tămășan\nTâmplărie: Marin Goia\nMașiniști: Răzvan Laszlo\, Gabriel Țipțer \nDurata spectacolului: 50 minute (fără pauză)\nVârsta publicului ţintă: 5 +\nLimba în care se joacă spectacolul: română \nScurtă prezentare a spectacolului: \nUn măreț rege stăpânește un ținut asupra căruia se abătuse o blestemată de ghionoaie care-i distrugea palatul de îndată ce acesta era gata înălțat. Singura sa bucurie erau cei trei fii ai săi\, cărora vroia să le lase acest palat drept moștenire. Pasărea măiastră este singura soluție pentru ca palatul să dăinuiască și să nu mai fie distrus.\nAdevărata fire și curajul fiilor se vor dovedi în acest ceas de cumpănă: cel care va reuși aducerea păsării măiestre va fi și succesorul la tron.\nAdevăr și minciună\, curaj și lașitate\, iubire și ură\, prietenie și dușmănie – vor ieși la iveală pe măsură ce încercările la care vor fi supuși cei trei fii se derulează în fața spectatorilor. \nCristina Smadea\, secretar literar
URL:https://www.teatrulalba.ro/eveniment/pasarea-maiastra-2/
LOCATION:Casa de Cultură a Studenților – Număr locuri: 378\, Strada Ardealului\, Nr. 1\, Alba Iulia\, Alba\, 510405\, România
CATEGORIES:Avanpremieră
ATTACH;FMTTYPE=image/jpeg:https://www.teatrulalba.ro/wp-content/uploads/2018/09/Afis-Pasarea-Maiastra-mic-1.jpg
ORGANIZER;CN="Teatrul%20de%20P%C4%83pu%C8%99i%20%E2%80%9EPRICHINDEL%E2%80%9D%20Alba%20Iulia":MAILTO:secretariat@teatrulalba.ro
END:VEVENT
END:VCALENDAR