BEGIN:VCALENDAR
VERSION:2.0
PRODID:-//Teatrul de Păpuși Prichindel din Alba Iulia - ECPv5.16.3.1//NONSGML v1.0//EN
CALSCALE:GREGORIAN
METHOD:PUBLISH
X-WR-CALNAME:Teatrul de Păpuși Prichindel din Alba Iulia
X-ORIGINAL-URL:https://www.teatrulalba.ro
X-WR-CALDESC:Events for Teatrul de Păpuși Prichindel din Alba Iulia
BEGIN:VTIMEZONE
TZID:Europe/Bucharest
BEGIN:DAYLIGHT
TZOFFSETFROM:+0200
TZOFFSETTO:+0300
TZNAME:EEST
DTSTART:20240331T010000
END:DAYLIGHT
BEGIN:STANDARD
TZOFFSETFROM:+0300
TZOFFSETTO:+0200
TZNAME:EET
DTSTART:20241027T010000
END:STANDARD
END:VTIMEZONE
BEGIN:VEVENT
DTSTART;TZID=Europe/Bucharest:20241212T090000
DTEND;TZID=Europe/Bucharest:20241212T094500
DTSTAMP:20260425T230549
CREATED:20241128T120051Z
LAST-MODIFIED:20241128T120051Z
UID:6689-1733994000-1733996700@www.teatrulalba.ro
SUMMARY:LECȚIA DE TEATRU
DESCRIPTION:EVENIMENT SUSȚINUT CU PUBLIC ORGANIZAT ÎN ȘCOLILE ȘI GRĂDINIȚELE DIN JUDEȚ \nCoordonatoare: Teodora Popa și Viorica Boda – actrițe \nAcest proiect vizează întâlniri cu artiștii și păpușile pe care le mânuiesc în grădinițe și școli din Alba Iulia și din județ. Prin aceste lecții deschise\, prin contactul direct al participanților cu actorii și păpușile lor\, ne propunem stimularea interesului pentru cultură și artă\, dezvoltarea imaginației și a sensibilității artistice\, inițiind jocuri interactive. Jocul cu păpușa descătușează imaginația și ajută la formarea capacităților individuale și afective ale copilului\, stimulează simțul de observație. Educația prin teatru urmărește să transforme copilul într-un bun spectator\, insuflându-i interesul pentru scenă și pentru ce se întâmplă în spatele scenei\, respectul pentru actor\, dragostea pentru teatru. Cu aceste proiecte am ajuns în grădinițele și școlile din municipiu și din localitățile județului sau în cămine culturale.
URL:https://www.teatrulalba.ro/eveniment/lectia-de-teatru-40/
LOCATION:Grădinița cu Program Prelungit Nr. 11 Alba Iulia\, Alba Iulia\, Alba
CATEGORIES:LECȚIA DE TEATRU
ATTACH;FMTTYPE=image/jpeg:https://www.teatrulalba.ro/wp-content/uploads/2023/11/Mascota-Prichindel-1-e1700037804990.jpg
ORGANIZER;CN="Teatrul%20de%20P%C4%83pu%C8%99i%20%E2%80%9EPRICHINDEL%E2%80%9D%20Alba%20Iulia":MAILTO:secretariat@teatrulalba.ro
END:VEVENT
END:VCALENDAR