BEGIN:VCALENDAR
VERSION:2.0
PRODID:-//Teatrul de Păpuși Prichindel din Alba Iulia - ECPv5.16.3.1//NONSGML v1.0//EN
CALSCALE:GREGORIAN
METHOD:PUBLISH
X-WR-CALNAME:Teatrul de Păpuși Prichindel din Alba Iulia
X-ORIGINAL-URL:https://www.teatrulalba.ro
X-WR-CALDESC:Events for Teatrul de Păpuși Prichindel din Alba Iulia
BEGIN:VTIMEZONE
TZID:Europe/Bucharest
BEGIN:DAYLIGHT
TZOFFSETFROM:+0200
TZOFFSETTO:+0300
TZNAME:EEST
DTSTART:20250330T010000
END:DAYLIGHT
BEGIN:STANDARD
TZOFFSETFROM:+0300
TZOFFSETTO:+0200
TZNAME:EET
DTSTART:20251026T010000
END:STANDARD
END:VTIMEZONE
BEGIN:VEVENT
DTSTART;TZID=Europe/Bucharest:20250612T110000
DTEND;TZID=Europe/Bucharest:20250612T114500
DTSTAMP:20260418T220827
CREATED:20250605T064011Z
LAST-MODIFIED:20250605T065428Z
UID:7196-1749726000-1749728700@www.teatrulalba.ro
SUMMARY:LABORATORUL VESELIEI
DESCRIPTION:SPECTACOL SUSȚINUT CU PUBLIC ORGANIZAT  ÎN ȘCOLILE ȘI GRĂDINIȚELE DIN JUDEȚUL ALBA \nLABORATORUL VESELIEI\nSpectacol de teatru pentru copii / 45 min. / 3+\nCreat și interpretat de Laura Boboc și Adam Boboc \nManager: Ioana Bogățan \nDespre spectacol:\nLaboratorul veseliei este un spectacol interactiv cu marionete cu fire care îi invită pe micii spectatori să cerceteze şi să experimenteze prin joc. \nSinopsis:\nDollo şi Lollo au un laborator ale cărui porţi sunt deschise pentru toţi copiii dornici să experimenteze prin joc şi veselie. Astfel\, folosind ca principal ingredient fantezia\, vor reuși să călătorea scă atât în trecut\, cât şi în viitor. Printr-un exerciţiu de echilibristică foarte ingenios\, Lollo va pătrunde alături de micii cercetători în tainele atracţiei gravitaţionale\, reuşind să o „anuleze” pentru câteva momente.\nAjutați de năstrușnicul asistent Johnny vor fi dezvăluite în chip nebănuit evoluția și tainele zborului. După o cercetare atât de „exigentă” este binevenit un momențel de relaxare. Nimic mai simplu\, pentru aceasta sunt invitați în magicul laborator neîntrecutul jongler Ciufulici și balerinele Nina și Tina. \n  \n 
URL:https://www.teatrulalba.ro/eveniment/laboratorul-veseliei-11/
LOCATION:Școala Gimnazială „Gheorghe Dancu” Biia\, Comuna Șona\, Biia\, Alba
CATEGORIES:Spectacole
ATTACH;FMTTYPE=image/jpeg:https://www.teatrulalba.ro/wp-content/uploads/2025/01/Laboratorul-_banner.jpg
ORGANIZER;CN="Teatrul%20de%20P%C4%83pu%C8%99i%20%E2%80%9EPRICHINDEL%E2%80%9D%20Alba%20Iulia":MAILTO:secretariat@teatrulalba.ro
END:VEVENT
END:VCALENDAR