BEGIN:VCALENDAR
VERSION:2.0
PRODID:-//Teatrul de Păpuși Prichindel din Alba Iulia - ECPv5.16.3.1//NONSGML v1.0//EN
CALSCALE:GREGORIAN
METHOD:PUBLISH
X-WR-CALNAME:Teatrul de Păpuși Prichindel din Alba Iulia
X-ORIGINAL-URL:https://www.teatrulalba.ro
X-WR-CALDESC:Events for Teatrul de Păpuși Prichindel din Alba Iulia
BEGIN:VTIMEZONE
TZID:Europe/Bucharest
BEGIN:DAYLIGHT
TZOFFSETFROM:+0200
TZOFFSETTO:+0300
TZNAME:EEST
DTSTART:20260329T010000
END:DAYLIGHT
BEGIN:STANDARD
TZOFFSETFROM:+0300
TZOFFSETTO:+0200
TZNAME:EET
DTSTART:20261025T010000
END:STANDARD
END:VTIMEZONE
BEGIN:VEVENT
DTSTART;TZID=Europe/Bucharest:20260322T123000
DTEND;TZID=Europe/Bucharest:20260322T131500
DTSTAMP:20260418T225715
CREATED:20260313T110753Z
LAST-MODIFIED:20260313T111011Z
UID:8000-1774182600-1774185300@www.teatrulalba.ro
SUMMARY:FATA BABEI ȘI FATA MOȘNEAGULUI
DESCRIPTION:SĂRBĂTOAREA MIERII\, BLAJ\n\nINTRAREA LIBERĂ\nFATA BABEI ȘI FATA MOȘNEAGULUI\nScenariul reprezintă o adaptare versificată după povestea cu același nume a lui Ion Creangă \nSpectacol creat și interpretat de Laura și Adam Boboc. \nDurata spectacolului: 45 min.\nVârsta publicului: 3 ani \nSinopsis \nFata babei și fata moșneagului este o poveste cunoscută și îndrăgită în care oameni\, ființe miraculoase\, lucruri și animale se întâlnesc cerând fiecare sprijinul și ajutorul celuilalt pentru a-și putea împlini nevoile și rostul lor. Spectacolul nostru\, „Fata babei și fata moșneagului”\, reprezintă această întâlnire într-o manieră specific păpușărească\, care prin intermediul marionetelor înfățișează întâmplările poveștii lui Creangă\, evidențiind două mari virtuți foarte însemnate pentru viața noastră: bunătatea și hărnicia.
URL:https://www.teatrulalba.ro/eveniment/fata-babei-si-fata-mosneagului-lectia-de-teatru-2/
LOCATION:Palatul Cultural Blaj\, Blaj\, Alba
CATEGORIES:Spectacole
ATTACH;FMTTYPE=image/jpeg:https://www.teatrulalba.ro/wp-content/uploads/2023/02/Afis-FATA-BABEI-SI-FATA-MOSNEAGULUI-e1677492120710.jpg
ORGANIZER;CN="Teatrul%20de%20P%C4%83pu%C8%99i%20%E2%80%9EPRICHINDEL%E2%80%9D%20Alba%20Iulia":MAILTO:secretariat@teatrulalba.ro
END:VEVENT
END:VCALENDAR