BEGIN:VCALENDAR
VERSION:2.0
PRODID:-//Teatrul de Păpuși Prichindel din Alba Iulia - ECPv5.16.3.1//NONSGML v1.0//EN
CALSCALE:GREGORIAN
METHOD:PUBLISH
X-WR-CALNAME:Teatrul de Păpuși Prichindel din Alba Iulia
X-ORIGINAL-URL:https://www.teatrulalba.ro
X-WR-CALDESC:Events for Teatrul de Păpuși Prichindel din Alba Iulia
BEGIN:VTIMEZONE
TZID:Europe/Bucharest
BEGIN:DAYLIGHT
TZOFFSETFROM:+0200
TZOFFSETTO:+0300
TZNAME:EEST
DTSTART:20240331T010000
END:DAYLIGHT
BEGIN:STANDARD
TZOFFSETFROM:+0300
TZOFFSETTO:+0200
TZNAME:EET
DTSTART:20241027T010000
END:STANDARD
END:VTIMEZONE
BEGIN:VEVENT
DTSTART;TZID=Europe/Bucharest:20241220T170000
DTEND;TZID=Europe/Bucharest:20241220T174500
DTSTAMP:20260424T214000
CREATED:20241129T112552Z
LAST-MODIFIED:20241202T074250Z
UID:6708-1734714000-1734716700@www.teatrulalba.ro
SUMMARY:FARMECUL IERNII
DESCRIPTION: INTRAREA LIBERĂ \nSpectacol creat și interpretat de Laura și Adam Boboc\nScenografia: Ana Catrințașu \n45  min. / 3+ \nPrimii fulgi de nea argintii și jucăuși vestesc sosirea iernii. Însăși Zâna Iernii apare dansând printre ei\, plină de grație. O fetiță construiește degrabă un om de zăpadă\, seara se lasă  și miracolul începe. Cumplitul ger vrea sa destrame totul\, dar omul de zăpadă îl înfruntă cu mult curaj și iese învingător. Așa că miracolul iernii poate continua inspirând-o pe fetiță să scrie cea mai frumoasă poveste despre iarnă. \n 
URL:https://www.teatrulalba.ro/eveniment/farmecul-iernii-6/
LOCATION:Sala 67 – Teatrul de Păpuși Prichindel Alba Iulia\, Str. Andrei Mureșanu nr.3\, Alba Iulia\, Alba\, 510117\, România
CATEGORIES:Spectacole
ATTACH;FMTTYPE=image/jpeg:https://www.teatrulalba.ro/wp-content/uploads/2024/01/Afis-Farmecul-iernii-2023.jpg
ORGANIZER;CN="Teatrul%20de%20P%C4%83pu%C8%99i%20%E2%80%9EPRICHINDEL%E2%80%9D%20Alba%20Iulia":MAILTO:secretariat@teatrulalba.ro
END:VEVENT
END:VCALENDAR