BEGIN:VCALENDAR
VERSION:2.0
PRODID:-//Teatrul de Păpuși Prichindel din Alba Iulia - ECPv5.16.3.1//NONSGML v1.0//EN
CALSCALE:GREGORIAN
METHOD:PUBLISH
X-WR-CALNAME:Teatrul de Păpuși Prichindel din Alba Iulia
X-ORIGINAL-URL:https://www.teatrulalba.ro
X-WR-CALDESC:Events for Teatrul de Păpuși Prichindel din Alba Iulia
BEGIN:VTIMEZONE
TZID:Europe/Bucharest
BEGIN:DAYLIGHT
TZOFFSETFROM:+0200
TZOFFSETTO:+0300
TZNAME:EEST
DTSTART:20250330T010000
END:DAYLIGHT
BEGIN:STANDARD
TZOFFSETFROM:+0300
TZOFFSETTO:+0200
TZNAME:EET
DTSTART:20251026T010000
END:STANDARD
END:VTIMEZONE
BEGIN:VEVENT
DTSTART;TZID=Europe/Bucharest:20250207T100000
DTEND;TZID=Europe/Bucharest:20250207T104500
DTSTAMP:20260420T215956
CREATED:20250131T081432Z
LAST-MODIFIED:20250131T081432Z
UID:6852-1738922400-1738925100@www.teatrulalba.ro
SUMMARY:FARMECUL IERNII
DESCRIPTION: EVENIMENT SUSȚINUT CU PUBLIC ORGANIZAT ÎN ȘCOLILE ȘI GRĂDINIȚELE DIN JUDEȚ \nSpectacol creat și interpretat de Laura și Adam Boboc\nScenografia: Ana Catrințașu \n45  min. / 3+ \nPrimii fulgi de nea argintii și jucăuși vestesc sosirea iernii. Însăși Zâna Iernii apare dansând printre ei\, plină de grație. O fetiță construiește degrabă un om de zăpadă\, seara se lasă  și miracolul începe. Cumplitul ger vrea sa destrame totul\, dar omul de zăpadă îl înfruntă cu mult curaj și iese învingător. Așa că miracolul iernii poate continua inspirând-o pe fetiță să scrie cea mai frumoasă poveste despre iarnă. \n 
URL:https://www.teatrulalba.ro/eveniment/farmecul-iernii-10/
LOCATION:Grădinița „Dumbrava Minunată” Alba Iulia\, Alba\, România
CATEGORIES:Spectacole
ATTACH;FMTTYPE=image/jpeg:https://www.teatrulalba.ro/wp-content/uploads/2024/01/Afis-Farmecul-iernii-2023.jpg
ORGANIZER;CN="Teatrul%20de%20P%C4%83pu%C8%99i%20%E2%80%9EPRICHINDEL%E2%80%9D%20Alba%20Iulia":MAILTO:secretariat@teatrulalba.ro
END:VEVENT
END:VCALENDAR