BEGIN:VCALENDAR
VERSION:2.0
PRODID:-//Teatrul de Păpuși Prichindel din Alba Iulia - ECPv5.16.3.1//NONSGML v1.0//EN
CALSCALE:GREGORIAN
METHOD:PUBLISH
X-WR-CALNAME:Teatrul de Păpuși Prichindel din Alba Iulia
X-ORIGINAL-URL:https://www.teatrulalba.ro
X-WR-CALDESC:Events for Teatrul de Păpuși Prichindel din Alba Iulia
BEGIN:VTIMEZONE
TZID:Europe/Bucharest
BEGIN:DAYLIGHT
TZOFFSETFROM:+0200
TZOFFSETTO:+0300
TZNAME:EEST
DTSTART:20250330T010000
END:DAYLIGHT
BEGIN:STANDARD
TZOFFSETFROM:+0300
TZOFFSETTO:+0200
TZNAME:EET
DTSTART:20251026T010000
END:STANDARD
END:VTIMEZONE
BEGIN:VEVENT
DTSTART;TZID=Europe/Bucharest:20251220T120000
DTEND;TZID=Europe/Bucharest:20251220T124500
DTSTAMP:20260419T021149
CREATED:20251128T113610Z
LAST-MODIFIED:20251209T115930Z
UID:7632-1766232000-1766234700@www.teatrulalba.ro
SUMMARY:ELEFĂNȚELUL CURIOS - premiera spectacolului
DESCRIPTION:BILETE  ONLINE\nELEFĂNȚELUL CURIOS\nPREMIERA SPECTACOLULUI \nTeatrul de Păpuși „Prichindel” Alba Iulia\nSpectacol de teatru pentru copii / 45 min. / 3+ \nAdaptare după Rudyard Kipling \nRegia și scenariul: Laura Boboc\nScenografia: Ana Catrințașu\nMuzica: Adam Boboc \nDistribuția: Laura Boboc\, Adam Boboc \nRegia tehnică: Elena Madaras\nLumini: Călin Popa\nSunet: Florin Andrea\nMașinist: Florin Badiu \nManager: Ioana Bogățan \n  \nDespre spectacol: \nCuriozitatea este o însușire care ne îmbogățește sufletește\, dar nu orice curiozitate este bună. Există curiozități periculoase. O astfel de curiozitate are elefănțelul nostru din poveste. El vrea să știe doar un singur lucru: ce mănâncă crocodilul la cină. Nu ține seamă de sfaturile primite de la prietenii pe care și-i face în călătoria sa prin junglă: un ursuleț\, o broscuță și un șarpe. În cele din urmă îl întâlnește pe crocodil\, dar discuția palpitantă cu acesta putea să-l coste viața. Este salvat de șarpe la timp\, doar că se alege cu trompa lungită. \nLaura Boboc\, regizor\n \n  \nAșadar\, vă așteptăm în sala de spectacol să faceți cunoștință cu năzdrăvanul elefănțel\, să luați parte la aventurile sale pline de suspans\, să vă bucurați de o poveste care surprinde prin farmecul narativ\, jocul captivant al marionetelor\, muzicalitate și interpretarea artistică. \nPremiera spectacolului – Sâmbătă\, 20 decembrie 2025\, ora 12:00\, la Sala Teatrului de Păpuși „Prichindel” Alba Iulia.\nBILETELE AU FOST EPUIZATE !\n  \n————————————————————————————————————————————————————————————– \nPreț bilete:\n• 7 lei pentru copii / elevi;\n• 15 lei pentru studenți / pensionari;\n• 30 lei pentru adulți;\n• 15 lei pentru persoane cu dizabilități\, respectiv adultul cu handicap mediu și ușor;\n• gratuit pentru copilul cu handicap\, precum și persoana care îl însoțește;\n• gratuit pentru adultul cu handicap grav și accentuat\, precum și persoana care îl însoțește. \nBiletele pot fi achiziționate:\n• online: www.eventim.ro\n• la sediul teatrului\, program casierie: luni – vineri\, între orele 09:00 și 14:00 sau cu 30 min. înainte de începerea spectacolului (în funcție de locurile rămase disponibile).
URL:https://www.teatrulalba.ro/eveniment/elefantelul-curios-premiera-spectacolului/
LOCATION:Sala Teatrului de Păpuși „PRICHINDEL” Alba Iulia\, Andrei Mureșanu\, nr. 3\, Alba Iulia\, Alba\, 510117\, România
CATEGORIES:Premieră
ATTACH;FMTTYPE=image/jpeg:https://www.teatrulalba.ro/wp-content/uploads/2025/11/Elefantelul_site.jpg
ORGANIZER;CN="Teatrul%20de%20P%C4%83pu%C8%99i%20%E2%80%9EPRICHINDEL%E2%80%9D%20Alba%20Iulia":MAILTO:secretariat@teatrulalba.ro
END:VEVENT
END:VCALENDAR