BEGIN:VCALENDAR
VERSION:2.0
PRODID:-//Teatrul de Păpuși Prichindel din Alba Iulia - ECPv5.16.3.1//NONSGML v1.0//EN
CALSCALE:GREGORIAN
METHOD:PUBLISH
X-WR-CALNAME:Teatrul de Păpuși Prichindel din Alba Iulia
X-ORIGINAL-URL:https://www.teatrulalba.ro
X-WR-CALDESC:Events for Teatrul de Păpuși Prichindel din Alba Iulia
BEGIN:VTIMEZONE
TZID:Europe/Bucharest
BEGIN:DAYLIGHT
TZOFFSETFROM:+0200
TZOFFSETTO:+0300
TZNAME:EEST
DTSTART:20250330T010000
END:DAYLIGHT
BEGIN:STANDARD
TZOFFSETFROM:+0300
TZOFFSETTO:+0200
TZNAME:EET
DTSTART:20251026T010000
END:STANDARD
END:VTIMEZONE
BEGIN:VEVENT
DTSTART;TZID=Europe/Bucharest:20251118T110000
DTEND;TZID=Europe/Bucharest:20251118T114500
DTSTAMP:20260418T223502
CREATED:20251113T094148Z
LAST-MODIFIED:20251113T095954Z
UID:7559-1763463600-1763466300@www.teatrulalba.ro
SUMMARY:CLOVNII PETRECĂREȚI
DESCRIPTION:SPECTACOL SUSȚINUT CU PUBLIC ORGANIZAT  ÎN ȘCOLILE ȘI GRĂDINIȚELE DIN JUDEȚUL ALBA \n  \nCLOVNII PETRECĂREȚI\nSpectacol de teatru pentru copii / 45 min. / 3+ \nRegia: Adam Boboc\nScenografia: Ana Catrințașu \nDistribuția: Laura Boboc și Adam Boboc \nSpectacol cu marionete cu fire \nPrezentare:\nO broscuță a întâlnit un motănel care e mare prezentator. S-au împrietenit şi au hotărât să prezinte împreună un extraordinar show în care vor invita clovni renumiți din întreaga lume. Dacă vreţi să îi cunoașteți pe cei doi prezentatori\, dar și pe clovnii invitați\, vă poftim la spectacol!!!
URL:https://www.teatrulalba.ro/eveniment/clovnii-petrecareti-26/
LOCATION:Școala Primară Șeușa\, Șeușa\, Alba\, România
CATEGORIES:Spectacole
ATTACH;FMTTYPE=image/jpeg:https://www.teatrulalba.ro/wp-content/uploads/2023/11/Clovnii-petrecareti-2023.jpg
ORGANIZER;CN="Teatrul%20de%20P%C4%83pu%C8%99i%20%E2%80%9EPRICHINDEL%E2%80%9D%20Alba%20Iulia":MAILTO:secretariat@teatrulalba.ro
END:VEVENT
END:VCALENDAR