BEGIN:VCALENDAR
VERSION:2.0
PRODID:-//Teatrul de Păpuși Prichindel din Alba Iulia - ECPv5.16.3.1//NONSGML v1.0//EN
CALSCALE:GREGORIAN
METHOD:PUBLISH
X-WR-CALNAME:Teatrul de Păpuși Prichindel din Alba Iulia
X-ORIGINAL-URL:https://www.teatrulalba.ro
X-WR-CALDESC:Events for Teatrul de Păpuși Prichindel din Alba Iulia
BEGIN:VTIMEZONE
TZID:Europe/Bucharest
BEGIN:DAYLIGHT
TZOFFSETFROM:+0200
TZOFFSETTO:+0300
TZNAME:EEST
DTSTART:20250330T010000
END:DAYLIGHT
BEGIN:STANDARD
TZOFFSETFROM:+0300
TZOFFSETTO:+0200
TZNAME:EET
DTSTART:20251026T010000
END:STANDARD
END:VTIMEZONE
BEGIN:VEVENT
DTSTART;TZID=Europe/Bucharest:20250328T110000
DTEND;TZID=Europe/Bucharest:20250328T115000
DTSTAMP:20260423T194212
CREATED:20250317T080738Z
LAST-MODIFIED:20250317T080738Z
UID:6994-1743159600-1743162600@www.teatrulalba.ro
SUMMARY:CAPRA CU TREI IEZI
DESCRIPTION:SPECTACOL SUSȚINUT CU PUBLIC ORGANIZAT \nCAPRA CU TREI IEZI\ndupă Ion Creangă \nSpectacol de teatru pentru copii / 50 min. / 4+ \nDramatizare: Cristian Pepino\nCreație colectivă: Teodora Popa\, Viorica Boda\, Ramona Benchea Mincu\, Irina Melnic\nScenografia: Marian Sandu\nMuzica: Levente Szőcs \nDistribuția: Ramona Benchea Mincu\, Mădălin Costea\, Teodora Popa\, Viorica Boda\, \, Irina Melnic\, Iulian Costea\, Tudor Cristian Popa\nVoce cântece Capra: Cătălina Mihăilă \nRegia tehnică: Elena Madaras\nLumini: Călin Popa\nSunet: Florin Andrea\nSculptura / pictura: Marian Sandu\, Oriana Pelladi\nCroitorie: Mirela Tămășan\nMașiniști: Gheorghe Hațegan\, Florin Badiu \nManager teatru: Ioana Bogățan \nDespre spectacol:\nCapra cu trei iezi\, o creație colectivă și originală a Teatrului de Păpuși PRICHINDEL din Alba Iulia\, aduce în scenă un spectacol surprinzător\, plin de haz\, cântec și culoare. O poveste care încântă publicul indiferent de vârstă în care regăsim povețele pe care Ion Creangă a vrut să le transmită. O piesă îmbogățită cu personaje noi\, construită pe un scenariu cu foarte mult umor\, o scenografie cu puternice accente tradiționale românești și acorduri vesele. Cei trei iezi cucuieți vă invită să țineți piept împreună lupului cel rău…!!!
URL:https://www.teatrulalba.ro/eveniment/capra-cu-trei-iezi-43/
LOCATION:Sala Teatrului de Păpuși „PRICHINDEL” Alba Iulia\, Andrei Mureșanu\, nr. 3\, Alba Iulia\, Alba\, 510117\, România
CATEGORIES:Spectacole
ATTACH;FMTTYPE=image/jpeg:https://www.teatrulalba.ro/wp-content/uploads/2018/01/Afis_Capra_cu_trei_iezi_2025.jpg
ORGANIZER;CN="Teatrul%20de%20P%C4%83pu%C8%99i%20%E2%80%9EPRICHINDEL%E2%80%9D%20Alba%20Iulia":MAILTO:secretariat@teatrulalba.ro
END:VEVENT
END:VCALENDAR