BEGIN:VCALENDAR
VERSION:2.0
PRODID:-//Teatrul de Păpuși Prichindel din Alba Iulia - ECPv5.16.3.1//NONSGML v1.0//EN
CALSCALE:GREGORIAN
METHOD:PUBLISH
X-WR-CALNAME:Teatrul de Păpuși Prichindel din Alba Iulia
X-ORIGINAL-URL:https://www.teatrulalba.ro
X-WR-CALDESC:Events for Teatrul de Păpuși Prichindel din Alba Iulia
BEGIN:VTIMEZONE
TZID:Europe/Bucharest
BEGIN:DAYLIGHT
TZOFFSETFROM:+0200
TZOFFSETTO:+0300
TZNAME:EEST
DTSTART:20260329T010000
END:DAYLIGHT
BEGIN:STANDARD
TZOFFSETFROM:+0300
TZOFFSETTO:+0200
TZNAME:EET
DTSTART:20261025T010000
END:STANDARD
END:VTIMEZONE
BEGIN:VEVENT
DTSTART;VALUE=DATE:20260331
DTEND;VALUE=DATE:20260401
DTSTAMP:20260424T205246
CREATED:20260330T102500Z
LAST-MODIFIED:20260330T102812Z
UID:8025-1774915200-1775001599@www.teatrulalba.ro
SUMMARY:ATELIERE DE TEATRU
DESCRIPTION:EVENIMENT SUSȚINUT CU PUBLIC ORGANIZAT ÎN ȘCOLILE ȘI GRĂDINIȚELE DIN JUDEȚUL ALBA \n  \ncoordonatori: actorii Ramona Mincu-Benchea și Tudor Cristian Popa
URL:https://www.teatrulalba.ro/eveniment/ateliere-de-teatru/
LOCATION:Școala Gimnazială Horea\, Horea\, Alba\, România
ATTACH;FMTTYPE=image/jpeg:https://www.teatrulalba.ro/wp-content/uploads/2023/11/Mascota-Prichindel-1-e1700037804990.jpg
END:VEVENT
END:VCALENDAR